BEGIN:VCALENDAR
VERSION:2.0
PRODID:-//Verona Vineyards Winery &amp; Bistro - ECPv6.15.17.1//NONSGML v1.0//EN
CALSCALE:GREGORIAN
METHOD:PUBLISH
X-ORIGINAL-URL:https://veronavineyards.com
X-WR-CALDESC:Events for Verona Vineyards Winery &amp; Bistro
REFRESH-INTERVAL;VALUE=DURATION:PT1H
X-Robots-Tag:noindex
X-PUBLISHED-TTL:PT1H
BEGIN:VTIMEZONE
TZID:America/Denver
BEGIN:DAYLIGHT
TZOFFSETFROM:-0700
TZOFFSETTO:-0600
TZNAME:MDT
DTSTART:20250309T090000
END:DAYLIGHT
BEGIN:STANDARD
TZOFFSETFROM:-0600
TZOFFSETTO:-0700
TZNAME:MST
DTSTART:20251102T080000
END:STANDARD
BEGIN:DAYLIGHT
TZOFFSETFROM:-0700
TZOFFSETTO:-0600
TZNAME:MDT
DTSTART:20260308T090000
END:DAYLIGHT
BEGIN:STANDARD
TZOFFSETFROM:-0600
TZOFFSETTO:-0700
TZNAME:MST
DTSTART:20261101T080000
END:STANDARD
BEGIN:DAYLIGHT
TZOFFSETFROM:-0700
TZOFFSETTO:-0600
TZNAME:MDT
DTSTART:20270314T090000
END:DAYLIGHT
BEGIN:STANDARD
TZOFFSETFROM:-0600
TZOFFSETTO:-0700
TZNAME:MST
DTSTART:20271107T080000
END:STANDARD
END:VTIMEZONE
BEGIN:VEVENT
DTSTART;TZID=America/Denver:20260213T150000
DTEND;TZID=America/Denver:20260213T210000
DTSTAMP:20260420T092718
CREATED:20260202T220546Z
LAST-MODIFIED:20260202T220546Z
UID:22871-1770994800-1771016400@veronavineyards.com
SUMMARY:Valentine's Dinner
DESCRIPTION:Reservations Required \nChoose from four menu specials: \nSurf & Turf\, Chicken\, Pork or Pasta \nEntrees include salad choice of House or Ceasar\, side choice (2) of Asparagus\, Mashed Potatoes or Broccoli\, and includes a desert
URL:https://veronavineyards.com/event/valentines-dinner/
END:VEVENT
BEGIN:VEVENT
DTSTART;TZID=America/Denver:20260213T180000
DTEND;TZID=America/Denver:20260213T210000
DTSTAMP:20260420T092718
CREATED:20260202T220241Z
LAST-MODIFIED:20260202T220241Z
UID:22870-1771005600-1771016400@veronavineyards.com
SUMMARY:Live Music - Mason Hutchinson
DESCRIPTION:We’ve added our Valentines menu for this special evening. \nReservations are required.
URL:https://veronavineyards.com/event/live-music-mason-hutchinson/
END:VEVENT
END:VCALENDAR