BEGIN:VCALENDAR
VERSION:2.0
PRODID:-//Verona Vineyards Winery &amp; Bistro - ECPv6.15.17.1//NONSGML v1.0//EN
CALSCALE:GREGORIAN
METHOD:PUBLISH
X-ORIGINAL-URL:https://veronavineyards.com
X-WR-CALDESC:Events for Verona Vineyards Winery &amp; Bistro
REFRESH-INTERVAL;VALUE=DURATION:PT1H
X-Robots-Tag:noindex
X-PUBLISHED-TTL:PT1H
BEGIN:VTIMEZONE
TZID:America/Denver
BEGIN:DAYLIGHT
TZOFFSETFROM:-0700
TZOFFSETTO:-0600
TZNAME:MDT
DTSTART:20250309T090000
END:DAYLIGHT
BEGIN:STANDARD
TZOFFSETFROM:-0600
TZOFFSETTO:-0700
TZNAME:MST
DTSTART:20251102T080000
END:STANDARD
BEGIN:DAYLIGHT
TZOFFSETFROM:-0700
TZOFFSETTO:-0600
TZNAME:MDT
DTSTART:20260308T090000
END:DAYLIGHT
BEGIN:STANDARD
TZOFFSETFROM:-0600
TZOFFSETTO:-0700
TZNAME:MST
DTSTART:20261101T080000
END:STANDARD
BEGIN:DAYLIGHT
TZOFFSETFROM:-0700
TZOFFSETTO:-0600
TZNAME:MDT
DTSTART:20270314T090000
END:DAYLIGHT
BEGIN:STANDARD
TZOFFSETFROM:-0600
TZOFFSETTO:-0700
TZNAME:MST
DTSTART:20271107T080000
END:STANDARD
END:VTIMEZONE
BEGIN:VEVENT
DTSTART;TZID=America/Denver:20260123T180000
DTEND;TZID=America/Denver:20260123T210000
DTSTAMP:20260420T073401
CREATED:20260103T135702Z
LAST-MODIFIED:20260106T213609Z
UID:22827-1769191200-1769202000@veronavineyards.com
SUMMARY:Live Music - Chris Carpenter
DESCRIPTION:Doors open at 3:00pm for Happy Hour!Live Music from 6-9pmNo cover\, full food and drink menuReservations suggested \nhttps://www.facebook.com/events/816702604731896
URL:https://veronavineyards.com/event/live-music-chris-carpenter/
END:VEVENT
END:VCALENDAR